BEGIN:VCALENDAR
VERSION:2.0
PRODID:-//Dental Courses International
CALSCALE:GREGORIAN
METHOD:PUBLISH
X-WR-CALNAME:Dental Courses International
X-ORIGINAL-URL:https://dentalcoursesinternational.com.au/event/ceramic-dental-implants-feb-2020/
X-WR-CALDESC:Ceramic Dental Implants &#8211; Feb 2020
BEGIN:VEVENT
DTSTART:20200214T000000
DTEND:20200215T000000
SUMMARY:Ceramic Dental Implants &#8211; Feb 2020
DESCRIPTION:Lecturers: Dr. Jacques Imbeau
LOCATION:Mercure Sydney </br>Sydney, Australia
END:VEVENT
END:VCALENDAR
